BEGIN:VCALENDAR
VERSION:2.0
PRODID:-// - ECPv6.15.17.1//NONSGML v1.0//EN
CALSCALE:GREGORIAN
METHOD:PUBLISH
X-ORIGINAL-URL:https://www.stephanie-rodriguez.com
X-WR-CALDESC:Évènements pour 
REFRESH-INTERVAL;VALUE=DURATION:PT1H
X-Robots-Tag:noindex
X-PUBLISHED-TTL:PT1H
BEGIN:VTIMEZONE
TZID:Europe/Paris
BEGIN:DAYLIGHT
TZOFFSETFROM:+0100
TZOFFSETTO:+0200
TZNAME:CEST
DTSTART:20250330T010000
END:DAYLIGHT
BEGIN:STANDARD
TZOFFSETFROM:+0200
TZOFFSETTO:+0100
TZNAME:CET
DTSTART:20251026T010000
END:STANDARD
BEGIN:DAYLIGHT
TZOFFSETFROM:+0100
TZOFFSETTO:+0200
TZNAME:CEST
DTSTART:20260329T010000
END:DAYLIGHT
BEGIN:STANDARD
TZOFFSETFROM:+0200
TZOFFSETTO:+0100
TZNAME:CET
DTSTART:20261025T010000
END:STANDARD
BEGIN:DAYLIGHT
TZOFFSETFROM:+0100
TZOFFSETTO:+0200
TZNAME:CEST
DTSTART:20270328T010000
END:DAYLIGHT
BEGIN:STANDARD
TZOFFSETFROM:+0200
TZOFFSETTO:+0100
TZNAME:CET
DTSTART:20271031T010000
END:STANDARD
END:VTIMEZONE
BEGIN:VEVENT
DTSTART;VALUE=DATE:20260419
DTEND;VALUE=DATE:20260420
DTSTAMP:20260419T173129
CREATED:20260205T084515Z
LAST-MODIFIED:20260205T084515Z
UID:11138-1776556800-1776643199@www.stephanie-rodriguez.com
SUMMARY:St Désirat (07) - Thé dansant Dancing le Crystal
DESCRIPTION:Dimanche 19 Avril 2026 : St Désirat (07)\nDancing LE CRYSTAL repas dansant 12h00\nres : 06 50 35 17 47
URL:https://www.stephanie-rodriguez.com/agenda/st-desirat-07-the-dansant-dancing-le-crystal/
LOCATION:Dancing le Crystal\, Saint-Désirat\, 07340\, France
CATEGORIES:Thé Dansant
END:VEVENT
BEGIN:VEVENT
DTSTART;VALUE=DATE:20260421
DTEND;VALUE=DATE:20260422
DTSTAMP:20260419T173129
CREATED:20260213T103100Z
LAST-MODIFIED:20260213T103100Z
UID:11144-1776729600-1776815999@www.stephanie-rodriguez.com
SUMMARY:Loisin (74) - Thé dansant
DESCRIPTION:Mardi 21 Avril 2026 : Loisin (74)\nSalle des Fêtes Thé Dansant 14h30\nres : 06 62 54 14 72
URL:https://www.stephanie-rodriguez.com/agenda/loisin-74-the-dansant-2/
LOCATION:Salle des fêtes de Loisin\, 2 Chem. du Vallon\, Loisin\, 74140\, France
CATEGORIES:Thé Dansant
END:VEVENT
BEGIN:VEVENT
DTSTART;VALUE=DATE:20260423
DTEND;VALUE=DATE:20260424
DTSTAMP:20260419T173129
CREATED:20260213T103207Z
LAST-MODIFIED:20260213T103207Z
UID:11146-1776902400-1776988799@www.stephanie-rodriguez.com
SUMMARY:St Priest (69) - Thé dansant Organisé par l'Entente Cycliste
DESCRIPTION:Jeudi 23 Avril 2026 : St Priest (69) Organisé par l’Entente Cycliste\nSalle Mosaique Thé Dansant 14h30\nres : 06 33 07 09 62
URL:https://www.stephanie-rodriguez.com/agenda/st-priest-69-the-dansant-organise-par-lentente-cycliste/
LOCATION:Espace Mosaïque\, 47-49 Rue Aristide Briand\, Saint-Priest\,  69800 \, France
CATEGORIES:Thé Dansant
END:VEVENT
BEGIN:VEVENT
DTSTART;VALUE=DATE:20260426
DTEND;VALUE=DATE:20260427
DTSTAMP:20260419T173129
CREATED:20260213T103319Z
LAST-MODIFIED:20260213T103319Z
UID:11148-1777161600-1777247999@www.stephanie-rodriguez.com
SUMMARY:Laiz (01) - Thé dansant
DESCRIPTION:Dimanche 26 Avril 2026 : Laiz (01)\nSalle des Fêtes Thé dansant 14h30\nres : 06 28 30 82 38
URL:https://www.stephanie-rodriguez.com/agenda/laiz-01-the-dansant/
LOCATION:laiz\, Laiz\, 01203\, France
CATEGORIES:Thé Dansant
END:VEVENT
BEGIN:VEVENT
DTSTART;VALUE=DATE:20260430
DTEND;VALUE=DATE:20260501
DTSTAMP:20260419T173129
CREATED:20260213T103416Z
LAST-MODIFIED:20260213T103416Z
UID:11150-1777507200-1777593599@www.stephanie-rodriguez.com
SUMMARY:Ville-la-Grand (74) - Thé dansant
DESCRIPTION:Jeudi 30 Avril 2026 : VILLE LA GRAND (74)\nSalle des Fêtes thé dansant 14h30\nres : 06 75 05 16 58
URL:https://www.stephanie-rodriguez.com/agenda/ville-la-grand-74-the-dansant/
LOCATION:Ville La Grand (74)\, Ville-la-Grand\, 74100\, France
CATEGORIES:Thé Dansant
END:VEVENT
END:VCALENDAR